BEGIN:VCALENDAR
VERSION:2.0
PRODID:-//ChamberMaster//Event Calendar 2.0//EN
METHOD:PUBLISH
X-PUBLISHED-TTL:P3D
REFRESH-INTERVAL:P3D
CALSCALE:GREGORIAN
BEGIN:VEVENT
DTSTART:20170311T200000Z
DTEND:20170312T000000Z
X-MICROSOFT-CDO-ALLDAYEVENT:FALSE
SUMMARY:Leprechaun Leap
DESCRIPTION:Visit each one of the 20 participating businesses to collect a gold coin for a chance to win prizes. Sample beers and wines and be sure to wear your best Leprechaun costume for a chance to win MOD money. Tickets available for purchase now at Best Paw Forward\, Emma Rae's Antiques & Uniques\, Heartland Cotton and Snap Fitness 24/7 **Must be 21 to consume alcoholic beverages** Sponsored by The Marketers of DeWitt
X-ALT-DESC;FMTTYPE=text/html:Visit each one of the 20 participating businesses to collect a gold coin for a chance to win prizes. Sample beers and wines and be sure to wear your best Leprechaun costume for a chance to win MOD money. Tickets available for purchase now at Best Paw Forward\, Emma Rae&#39\;s Antiques &amp\; Uniques\, Heartland Cotton and Snap Fitness 24/7 **Must be 21 to consume alcoholic beverages** Sponsored by The Marketers of DeWitt
LOCATION:Downtown DeWitt
UID:e.1774.1847
SEQUENCE:3
DTSTAMP:20260419T215754Z
URL:https://business.dewittiowa.org/events/details/leprechaun-leap-1847
END:VEVENT

END:VCALENDAR
