BEGIN:VCALENDAR
VERSION:2.0
PRODID:-//ChamberMaster//Event Calendar 2.0//EN
METHOD:PUBLISH
X-PUBLISHED-TTL:P3D
REFRESH-INTERVAL:P3D
CALSCALE:GREGORIAN
BEGIN:VEVENT
DTSTART:20150210T010000Z
DTEND:20150210T020000Z
X-MICROSOFT-CDO-ALLDAYEVENT:FALSE
SUMMARY:Library Book Discussion
DESCRIPTION:Discussion on Cecelia Ahern's novel "One Hundred Names."
X-ALT-DESC;FMTTYPE=text/html:Discussion on Cecelia Ahern&#39\;s novel &quot\;One Hundred Names.&quot\;
LOCATION:DeWitt Library meeting room
UID:e.1774.300
SEQUENCE:3
DTSTAMP:20260421T142051Z
URL:https://business.dewittiowa.org/events/details/library-book-discussion-02-09-2015-300
END:VEVENT

END:VCALENDAR
