BEGIN:VCALENDAR
VERSION:2.0
PRODID:-//ChamberMaster//Event Calendar 2.0//EN
METHOD:PUBLISH
X-PUBLISHED-TTL:P3D
REFRESH-INTERVAL:P3D
CALSCALE:GREGORIAN
BEGIN:VEVENT
DTSTART:20160921T140000Z
DTEND:20160921T150000Z
X-MICROSOFT-CDO-ALLDAYEVENT:FALSE
SUMMARY:Library Storytimes
DESCRIPTION:Mother Goose Story Time for 0-3 year olds\; Preschool Story Time for 3-5 year olds
X-ALT-DESC;FMTTYPE=text/html:Mother Goose Story Time for 0-3 year olds\; Preschool Story Time for 3-5 year olds
LOCATION:Frances Banta Waggoner Community Library 505 10th St. DeWitt
UID:e.1774.1599
SEQUENCE:3
DTSTAMP:20260420T073645Z
URL:https://business.dewittiowa.org/events/details/library-storytimes-1599
END:VEVENT

END:VCALENDAR
