BEGIN:VCALENDAR
VERSION:2.0
PRODID:-//ChamberMaster//Event Calendar 2.0//EN
METHOD:PUBLISH
X-PUBLISHED-TTL:P3D
REFRESH-INTERVAL:P3D
CALSCALE:GREGORIAN
BEGIN:VEVENT
DTSTART:20160124T223000Z
DTEND:20160125T003000Z
X-MICROSOFT-CDO-ALLDAYEVENT:FALSE
SUMMARY:Lights Out @ Your Library
DESCRIPTION:Open to all ages--children under 10 should be accompanied by a teen or adult. Pizza will be served from 4:30 - 5:30 and "Lights Out" games will be played 5:00 - 6:30. Bring your own flashlight if you can\, however\, we will have some to borrow. Reservations are appreciated\, but drop-ins will also be welcome.
X-ALT-DESC;FMTTYPE=text/html:Open to all ages--children under 10 should be accompanied by a teen or adult. Pizza will be served from 4:30 - 5:30 and &quot\;Lights Out&quot\; games will be played 5:00 - 6:30. Bring your own flashlight if you can\, however\, we will have some to borrow. Reservations are appreciated\, but drop-ins will also be welcome.
LOCATION:Frances Banta Waggoner Community Library Meeting Room 505 10th St. DeWitt IA
UID:e.1774.1176
SEQUENCE:3
DTSTAMP:20260420T201130Z
URL:https://business.dewittiowa.org/events/details/lights-out-your-library-01-24-2016-1176
END:VEVENT

END:VCALENDAR
