BEGIN:VCALENDAR
VERSION:2.0
PRODID:-//ChamberMaster//Event Calendar 2.0//EN
METHOD:PUBLISH
X-PUBLISHED-TTL:P3D
REFRESH-INTERVAL:P3D
CALSCALE:GREGORIAN
BEGIN:VEVENT
DTSTART:20141103T230000Z
DTEND:20141104T003000Z
X-MICROSOFT-CDO-ALLDAYEVENT:FALSE
SUMMARY:LincolnWay Community Foundation Annual Event
DESCRIPTION:Honoring leaders under 40 for 2014\n\nReviewing grants for 2014\n\nHonoring new endowments for 2014
X-ALT-DESC;FMTTYPE=text/html:Honoring leaders under 40 for 2014<br />\nReviewing grants for 2014<br />\nHonoring new endowments for 2014
LOCATION:DeWitt Oprerahouse Theater 716 6th Ave DeWitt\, IA
UID:e.1774.221
SEQUENCE:3
DTSTAMP:20260421T190408Z
URL:https://business.dewittiowa.org/events/details/lincolnway-community-foundation-annual-event-11-03-2014-221
END:VEVENT

END:VCALENDAR
