BEGIN:VCALENDAR
VERSION:2.0
PRODID:-//ChamberMaster//Event Calendar 2.0//EN
METHOD:PUBLISH
X-PUBLISHED-TTL:P3D
REFRESH-INTERVAL:P3D
CALSCALE:GREGORIAN
BEGIN:VEVENT
DTSTART:20170504T223000Z
DTEND:20170505T000000Z
X-MICROSOFT-CDO-ALLDAYEVENT:FALSE
SUMMARY:Listening Post
DESCRIPTION:Iowa Governor's Office of Drug Control Policy Director Steve Lukan and Partnership for a Drug-Free Iowa President Peter Komendowski\, along with the Iowa National Guard Counter-Drug Program and the US Department of Justice Northern and Southern Districts of Iowa\, will be having their "Iowa Caring Communities Tour" series of community listening posts across the State. Representatives will conduct community outreach to build community capacity to effectively meet the threat of substance abuse\, with an emphasis on the evolving opioid epidemic. The purpose of the listening posts is to hear directly from local citizens about top community concerns\, needs\, and solutions related to illegal drug activity impacting Iowa youth. "We invite Iowans to participate in the listening posts because we want to hear directly about emerging substance abuse concerns in their community\, share that information to help others\, and plan accordingly to address those concerns\," said Lukan. Information gathered at the listening posts will assist in defining Iowa priorities and shaping drug control strategies for public education\, safety and health initiatives\, as well as strengthen local community coalition efforts to prevent substance abuse. "Listening post input will help the Partnership for a Drug Free Iowa provide more targeted drug education programs and prevention tools that better meet local needs\," said Komendowski. "It's important for us to know about new or emerging challenges in our communities\, and to share information important to understanding the dangers and risks associated with the recent surge in drug overdose deaths involving prescription\, illicit and non-medical synthetic opioids."
X-ALT-DESC;FMTTYPE=text/html:Iowa Governor&rsquo\;s Office of Drug Control Policy Director Steve Lukan and Partnership for a Drug-Free Iowa President Peter Komendowski\, along with the Iowa National Guard Counter-Drug Program and the US Department of Justice Northern and Southern Districts of Iowa\, will be having their &ldquo\;Iowa Caring Communities Tour&rdquo\; series of community listening posts across the State. Representatives will conduct community outreach to build community capacity to effectively meet the threat of substance abuse\, with an emphasis on the evolving opioid epidemic. The purpose of the listening posts is to hear directly from local citizens about top community concerns\, needs\, and solutions related to illegal drug activity impacting Iowa youth. &ldquo\;We invite Iowans to participate in the listening posts because we want to hear directly about emerging substance abuse concerns in their community\, share that information to help others\, and plan accordingly to address those concerns\,&rdquo\; said Lukan. Information gathered at the listening posts will assist in defining Iowa priorities and shaping drug control strategies for public education\, safety and health initiatives\, as well as strengthen local community coalition efforts to prevent substance abuse. &ldquo\;Listening post input will help the Partnership for a Drug Free Iowa provide more targeted drug education programs and prevention tools that better meet local needs\,&rdquo\; said Komendowski. &ldquo\;It&rsquo\;s important for us to know about new or emerging challenges in our communities\, and to share information important to understanding the dangers and risks associated with the recent surge in drug overdose deaths involving prescription\, illicit and non-medical synthetic opioids.&rdquo\;
LOCATION:Clinton County Sheriffs' Satellite Office 226 11th St. DeWitt\, Iowa 52742
UID:e.1774.2992
SEQUENCE:3
DTSTAMP:20260419T201132Z
URL:https://business.dewittiowa.org/events/details/listening-post-2992
END:VEVENT

END:VCALENDAR
