BEGIN:VCALENDAR
VERSION:2.0
PRODID:-//ChamberMaster//Event Calendar 2.0//EN
METHOD:PUBLISH
X-PUBLISHED-TTL:P3D
REFRESH-INTERVAL:P3D
CALSCALE:GREGORIAN
BEGIN:VEVENT
DTSTART:20141028T223000Z
DTEND:20141029T000000Z
X-MICROSOFT-CDO-ALLDAYEVENT:FALSE
SUMMARY:Little Italy Saber Style Spaghetti Dinner
DESCRIPTION:The Central Music Boosters is sponsoring the "Little Italy Saber Style Spaghetti Dinner" on Tuesday\, October 28th from 5:30-7:00. The cost is $5 per person. Advanced tickets are available for purchase at Dot's Hallmark or The Observer. Tickets will also be available at the door. Al proceeds will go to fund the high school band trip to New York City in March 2015. The community is invited to attend the All School Parade of Bands\, a free concert in the competition gym\, immediately following the meal at 7 p.m..
X-ALT-DESC;FMTTYPE=text/html:The Central Music Boosters is sponsoring the &quot\;Little Italy Saber Style Spaghetti Dinner&quot\; on Tuesday\, October 28th from 5:30-7:00. The cost is $5 per person. Advanced tickets are available for purchase at Dot&#39\;s Hallmark or The Observer. Tickets will also be available at the door. Al proceeds will go to fund the high school band trip to New York City in March 2015. The community is invited to attend the All School Parade of Bands\, a free concert in the competition gym\, immediately following the meal at 7 p.m..
LOCATION:Central High School Atrium 331 E. 8th St. DeWitt\, IA
UID:e.1774.207
SEQUENCE:3
DTSTAMP:20260421T220942Z
URL:https://business.dewittiowa.org/events/details/little-italy-saber-style-spaghetti-dinner-10-28-2014-207
END:VEVENT

END:VCALENDAR
