BEGIN:VCALENDAR
VERSION:2.0
PRODID:-//ChamberMaster//Event Calendar 2.0//EN
METHOD:PUBLISH
X-PUBLISHED-TTL:P3D
REFRESH-INTERVAL:P3D
CALSCALE:GREGORIAN
BEGIN:VEVENT
DTSTART:20170805T230000Z
DTEND:20170806T043000Z
X-MICROSOFT-CDO-ALLDAYEVENT:FALSE
SUMMARY:LIVE MUSIC - Adam Beck
DESCRIPTION:6 PM - BBQ Grill & Outside Bar serving up COLD Summer Drinks and LOTS of Fun!\n\n7PM - LIVE MUSIC - Adam Beck
X-ALT-DESC;FMTTYPE=text/html:6 PM - BBQ Grill &amp\; Outside Bar serving up COLD Summer Drinks and LOTS of Fun!<br />\n7PM - LIVE MUSIC - Adam Beck&nbsp\;
LOCATION:Springbrook Country Club Brook's Bistro
UID:e.1774.3194
SEQUENCE:3
DTSTAMP:20260419T150817Z
URL:https://business.dewittiowa.org/events/details/live-music-adam-beck-3194
END:VEVENT

END:VCALENDAR
