BEGIN:VCALENDAR
VERSION:2.0
PRODID:-//ChamberMaster//Event Calendar 2.0//EN
METHOD:PUBLISH
X-PUBLISHED-TTL:P3D
REFRESH-INTERVAL:P3D
CALSCALE:GREGORIAN
BEGIN:VEVENT
DTSTART:20160507T230000Z
DTEND:20160508T040000Z
X-MICROSOFT-CDO-ALLDAYEVENT:FALSE
SUMMARY:Live Music - Open to the Public
DESCRIPTION:We are hosting another SBCC information night for potential members!\n\nPlease join us:\n\nWhat:  Short presentation in the Grill to highlight Springbrook\, Q & A Session\n\nWho: Guests and Members\n\nDate: Saturday\, May 07\, 2016\n\nTime: 6:00pm\n\nAppetizers and beverages will be served in the West room following the discussion.\n\nSaturday\, May 07\, 2016 is a big day at the club:\n\nKentucky Derby Party in the Bar @ 2:00pm\n\nDinner Buffet 6:00-8:00pm\n\nLive Music\, Open to the Public provided by the froeschle agency @ 7:00pm.
X-ALT-DESC;FMTTYPE=text/html:<p><span style="font-size:18pt">We are hosting <u>another </u>SBCC information night for potential members!</span></p>\n\n<p><span style="font-size:18pt">Please join us:</span></p>\n\n<p>What: &nbsp\;Short presentation in the Grill to highlight Springbrook\, Q &amp\; A Session</p>\n\n<p>Who: Guests and Members</p>\n\n<p>Date: Saturday\, May 07\, 2016</p>\n\n<p>Time: 6:00pm</p>\n\n<p>Appetizers and beverages will be served in the West room following the discussion.</p>\n\n<p><span style="font-size:18pt">Saturday\, May 07\, 2016 is a big day at the club:</span></p>\n\n<p><span style="font-size:18pt">Kentucky Derby Party in the Bar @ 2:00pm</span></p>\n\n<p><span style="font-size:18pt">Dinner Buffet 6:00-8:00pm</span></p>\n\n<p><span style="font-size:18pt">Live Music\, Open to the Public provided by <em>the froeschle agency</em> @ 7:00pm.</span></p>\n
LOCATION:Spingbrook Country Club 2122 17th Avenue DeWitt\, IA
UID:e.1774.1315
SEQUENCE:3
DTSTAMP:20260420T140045Z
URL:https://business.dewittiowa.org/events/details/live-music-open-to-the-public-05-07-2016-1315
END:VEVENT

END:VCALENDAR
