BEGIN:VCALENDAR
VERSION:2.0
PRODID:-//ChamberMaster//Event Calendar 2.0//EN
METHOD:PUBLISH
X-PUBLISHED-TTL:P3D
REFRESH-INTERVAL:P3D
CALSCALE:GREGORIAN
BEGIN:VEVENT
DTSTART:20150703T223000Z
DTEND:20150704T040000Z
X-MICROSOFT-CDO-ALLDAYEVENT:FALSE
SUMMARY:Live Music - Open to the Public!
DESCRIPTION:Rose 'N Thorns - July 3\n\nWhat started as a laid-back trio of acoustic pop has grown into a six-piece high-energy band that mixes up genre styling from rock and blues to country and folk.  Rose n' Thorns covers the music of their generation (baby boomers) with a special blend of humor and enthusiasm that even excites those who can't name the four Beatles!\n\n\n\nWorking from a simple love for music\, the members of Rose n' Thorns have expanded their song list to include a range of artists so varied that no one listening to a set can go away unsatisfied.  All members have come to the group from backgrounds so diverse that it is impossible to fit Rose n' Thorns into a single style.  Whether it's the soul needed for a Lucinda Williams ballad or the throaty wailings to pull off Neil Young\, someone in RNT rises to the challenge.  In addition to over a hundred "cover" songs\, the group has produced many originals that are now as readily requested as the old standards.
X-ALT-DESC;FMTTYPE=text/html:<strong><u><span style="font-size:medium"><span style="font-family:calibri">Rose &#39\;N Thorns - July 3</span></span></u></strong><br />\n<span style="font-size:medium"><span style="font-family:calibri">What started as a laid-back trio of acoustic pop has grown into a six-piece high-energy band that mixes up genre styling from rock and blues to country and folk.&nbsp\; </span></span><span style="font-size:medium"><span style="font-family:calibri">Rose n&rsquo\; Thorns covers the music of their generation (baby boomers) with a special blend of humor and enthusiasm that even excites those who can&rsquo\;t name the four Beatles!</span></span><br />\n<br />\n<span style="font-size:medium"><span style="font-family:calibri">Working from a simple love for music\, the members of Rose n&rsquo\; Thorns have expanded their song list to include a range of artists so varied that no one listening to a set can go away unsatisfied.&nbsp\; All members have come to the group from backgrounds so diverse that it is impossible to fit Rose n&rsquo\; Thorns into a single style.&nbsp\; Whether it&rsquo\;s the soul needed for a Lucinda Williams ballad or the throaty wailings to pull off Neil Young\, someone in RNT rises to the challenge.&nbsp\; In addition to over a hundred &ldquo\;cover&rdquo\; songs\, the group has produced many originals that are now as readily requested as the old standards.</span></span><br />\n&nbsp\;
LOCATION:Springbrook Country Club
UID:e.1774.904
SEQUENCE:3
DTSTAMP:20260421T061708Z
URL:https://business.dewittiowa.org/events/details/live-music-open-to-the-public-07-03-2015-904
END:VEVENT

END:VCALENDAR
