BEGIN:VCALENDAR
VERSION:2.0
PRODID:-//ChamberMaster//Event Calendar 2.0//EN
METHOD:PUBLISH
X-PUBLISHED-TTL:P3D
REFRESH-INTERVAL:P3D
CALSCALE:GREGORIAN
BEGIN:VEVENT
DTSTART:20161210T010000Z
DTEND:20161210T040000Z
X-MICROSOFT-CDO-ALLDAYEVENT:FALSE
SUMMARY:Live Music Open to the Public!
DESCRIPTION:Celebrate the Holidays with Live Music @ Springbrook
X-ALT-DESC;FMTTYPE=text/html:Celebrate the Holidays with Live Music @ Springbrook
LOCATION:2122 17 Avenue\, DeWitt\, Iowa 52742
UID:e.1774.1706
SEQUENCE:3
DTSTAMP:20260420T031426Z
URL:https://business.dewittiowa.org/events/details/live-music-open-to-the-public-1706
END:VEVENT

END:VCALENDAR
