BEGIN:VCALENDAR
VERSION:2.0
PRODID:-//ChamberMaster//Event Calendar 2.0//EN
METHOD:PUBLISH
X-PUBLISHED-TTL:P3D
REFRESH-INTERVAL:P3D
CALSCALE:GREGORIAN
BEGIN:VEVENT
DTSTART:20150412T000000Z
DTEND:20150412T040000Z
X-MICROSOFT-CDO-ALLDAYEVENT:FALSE
SUMMARY:LIVE MUSIC...Open to the Public - 4 hours 7-11 pm Springbrook Country Club
DESCRIPTION:Saturday\, April 11\, 2015 - LIVE MUSIC  4 hours 7-11 pm - Open Dining 5:30-9:00pm\n\nCome for Dinner and stay for the Music.
X-ALT-DESC;FMTTYPE=text/html:<u><span style="font-size:12pt"><span style="color:black"><span style="font-family:calibri">Saturday\, April 11\, 2015 - LIVE MUSIC&hellip\; 4 hours 7-11 pm - Open Dining 5:30-9:00pm</span></span></span></u><br />\n<em><span style="font-size:12pt"><span style="color:black"><span style="font-family:calibri">Come for Dinner and stay for the Music.&nbsp\; </span></span></span></em><br />\n&nbsp\;
LOCATION:Springbrook Country Club 2122 17th Avenue DeWitt\, IA 52742
UID:e.1774.352
SEQUENCE:3
DTSTAMP:20260421T111610Z
URL:https://business.dewittiowa.org/events/details/live-music-open-to-the-public-4-hours-7-11-pm-springbrook-country-club-04-11-2015-352
END:VEVENT

END:VCALENDAR
