BEGIN:VCALENDAR
VERSION:2.0
PRODID:-//ChamberMaster//Event Calendar 2.0//EN
METHOD:PUBLISH
X-PUBLISHED-TTL:P3D
REFRESH-INTERVAL:P3D
CALSCALE:GREGORIAN
BEGIN:VEVENT
DTSTART:20160605T000000Z
DTEND:20160605T030000Z
X-MICROSOFT-CDO-ALLDAYEVENT:FALSE
SUMMARY:Live Music @ Springbrook
DESCRIPTION:Live Music @ Springbrook\n\nOpen to the Public\n\nOutside Venue (weather permitting)\n\nSaturday\, June 4th 7:00-10:00\n\n\n\nDinner Buffet Available
X-ALT-DESC;FMTTYPE=text/html:Live Music @ Springbrook<br />\nOpen to the Public<br />\nOutside Venue (weather permitting)<br />\nSaturday\, June 4th 7:00-10:00<br />\n<br />\nDinner Buffet Available
LOCATION:Springbrook Country Club
UID:e.1774.1358
SEQUENCE:3
DTSTAMP:20260420T122004Z
URL:https://business.dewittiowa.org/events/details/live-music-springbrook-06-04-2016-1358
END:VEVENT

END:VCALENDAR
