BEGIN:VCALENDAR
VERSION:2.0
PRODID:-//ChamberMaster//Event Calendar 2.0//EN
METHOD:PUBLISH
X-PUBLISHED-TTL:P3D
REFRESH-INTERVAL:P3D
CALSCALE:GREGORIAN
BEGIN:VEVENT
DTSTART:20160702T000000Z
DTEND:20160702T030000Z
X-MICROSOFT-CDO-ALLDAYEVENT:FALSE
SUMMARY:Live Music @ Springbrook
DESCRIPTION:Live Music @ Springbrook\n\nOpen to the Public! \n\nFeaturing:  Adam Beck\n\n\n\nMusic sponsored by the froeschle agency\n\n\n\nNo cover charge\n\nOutside venue weather permitting
X-ALT-DESC;FMTTYPE=text/html:Live Music @ Springbrook<br />\nOpen to the Public!&nbsp\;<br />\nFeaturing:&nbsp\; Adam Beck<br />\n<br />\nMusic sponsored by <em>the froeschle agency</em><br />\n<br />\nNo cover charge<br />\nOutside venue weather permitting<br />\n&nbsp\;
LOCATION:Springbrook Country Club 2122 17th Avenue DeWitt\, Iowa
UID:e.1774.1409
SEQUENCE:3
DTSTAMP:20260420T104600Z
URL:https://business.dewittiowa.org/events/details/live-music-springbrook-07-01-2016-1409
END:VEVENT

END:VCALENDAR
