BEGIN:VCALENDAR
VERSION:2.0
PRODID:-//ChamberMaster//Event Calendar 2.0//EN
METHOD:PUBLISH
X-PUBLISHED-TTL:P3D
REFRESH-INTERVAL:P3D
CALSCALE:GREGORIAN
BEGIN:VEVENT
DTSTART:20151004T000000Z
DTEND:20151004T030000Z
X-MICROSOFT-CDO-ALLDAYEVENT:FALSE
SUMMARY:Live Music @Springbrook
DESCRIPTION:Live Music Sponsored by The Froeschle Agency.
X-ALT-DESC;FMTTYPE=text/html:Live Music Sponsored by The Froeschle&nbsp\;Agency.
LOCATION:Springbrook Country Club
UID:e.1774.1048
SEQUENCE:3
DTSTAMP:20260421T012329Z
URL:https://business.dewittiowa.org/events/details/live-music-springbrook-10-03-2015-1048
END:VEVENT

END:VCALENDAR
