BEGIN:VCALENDAR
VERSION:2.0
PRODID:-//ChamberMaster//Event Calendar 2.0//EN
METHOD:PUBLISH
X-PUBLISHED-TTL:P3D
REFRESH-INTERVAL:P3D
CALSCALE:GREGORIAN
BEGIN:VEVENT
DTSTART:20151108T010000Z
DTEND:20151108T040000Z
X-MICROSOFT-CDO-ALLDAYEVENT:FALSE
SUMMARY:Live Music @ Springbrook - a tribute to Frank Sinatra
DESCRIPTION:Live Music @ Springbrook - November 7th\, 7:00-10:00pm\n\n\n\nOpen to the Public!\n\n\n\nCome out and enjoy a night of Music sponsored by the froeschle agency
X-ALT-DESC;FMTTYPE=text/html:Live Music @ Springbrook - November 7th\, 7:00-10:00pm<br />\n<br />\nOpen to the Public!<br />\n<br />\nCome out and enjoy a night of Music sponsored by <em>the froeschle agency</em>
LOCATION:Springbrook Country Club
UID:e.1774.1075
SEQUENCE:3
DTSTAMP:20260420T233322Z
URL:https://business.dewittiowa.org/events/details/live-music-springbrook-a-tribute-to-frank-sinatra-11-07-2015-1075
END:VEVENT

END:VCALENDAR
