BEGIN:VCALENDAR
VERSION:2.0
PRODID:-//ChamberMaster//Event Calendar 2.0//EN
METHOD:PUBLISH
X-PUBLISHED-TTL:P3D
REFRESH-INTERVAL:P3D
CALSCALE:GREGORIAN
BEGIN:VEVENT
DTSTART:20150802T000000Z
DTEND:20150802T030000Z
X-MICROSOFT-CDO-ALLDAYEVENT:FALSE
SUMMARY:Live Music with Al Sweet from the Candy Makers - Open to the Public - Springbrook Country Club
DESCRIPTION:Open to the Public\, Music provided by The Froeschle Agency\, DeWitt\, Iowa.  Open dining 5:30-9:00pm\,  Come for dinner and stay for the music.
X-ALT-DESC;FMTTYPE=text/html:Open to the Public\, Music provided by The Froeschle Agency\, DeWitt\, Iowa.&nbsp\; Open dining 5:30-9:00pm\,&nbsp\; Come for dinner and stay for the music.
LOCATION:Springbrook Country Club 2122 17th Avenue\, DeWitt
UID:e.1774.356
SEQUENCE:3
DTSTAMP:20260421T044721Z
URL:https://business.dewittiowa.org/events/details/live-music-with-al-sweet-from-the-candy-makers-open-to-the-public-springbrook-country-club-08-01-2015-356
END:VEVENT

END:VCALENDAR
