BEGIN:VCALENDAR
VERSION:2.0
PRODID:-//ChamberMaster//Event Calendar 2.0//EN
METHOD:PUBLISH
X-PUBLISHED-TTL:P3D
REFRESH-INTERVAL:P3D
CALSCALE:GREGORIAN
BEGIN:VEVENT
DTSTART;VALUE=DATE:20170422
DTEND;VALUE=DATE:20170423
TRANSP:TRANSPARENT
X-MICROSOFT-CDO-ALLDAYEVENT:TRUE
SUMMARY:Living Vintage Garden Party
DESCRIPTION:Our store will undergo the famous "Overnight Transformation" with spring and garden decor! For this event\, we will open an additional 2000 sq. ft. to host an expanded selection of unique\, one-of-a-kind vintage finds!
X-ALT-DESC;FMTTYPE=text/html:<span style="color: rgb(75\, 79\, 86)\; font-family: Helvetica\, Arial\, sans-serif\; font-size: 14px\;">Our store will undergo the famous &quot\;Overnight Transformation&quot\; with spring and garden decor! For this event\, we will open an additional 2000 sq. ft. to host an expanded selection of unique\, one-of-a-kind vintage finds!&nbsp\;</span>
LOCATION:Living Vintage 1416 11th St. DeWitt\, IA
UID:e.1774.2956
SEQUENCE:3
DTSTAMP:20260419T202430Z
URL:https://business.dewittiowa.org/events/details/living-vintage-garden-party-2956
END:VEVENT

END:VCALENDAR
