BEGIN:VCALENDAR
VERSION:2.0
PRODID:-//ChamberMaster//Event Calendar 2.0//EN
METHOD:PUBLISH
X-PUBLISHED-TTL:P3D
REFRESH-INTERVAL:P3D
CALSCALE:GREGORIAN
BEGIN:VEVENT
DTSTART:20170604T190000Z
DTEND:20170604T220000Z
X-MICROSOFT-CDO-ALLDAYEVENT:FALSE
SUMMARY:Lojo Russo
DESCRIPTION:Lojo Russo will be back at TYCOGA performing on the patio!\n\nWood fired pizza available for purchase from 11-5pm.\n\nALL beverages to be purchased from TYCOGA.\n\nIf raining\, event will move inside.
X-ALT-DESC;FMTTYPE=text/html:Lojo Russo will be back at TYCOGA performing on the patio!<br />\nWood fired pizza available for purchase from 11-5pm.<br />\nALL beverages to be purchased from TYCOGA.<br />\nIf raining\, event will move inside.
LOCATION:TYCOGA Vineyard & Winery 2585 195th Street DeWitt\, IA 52742
UID:e.1774.3047
SEQUENCE:3
DTSTAMP:20260419T165106Z
URL:https://business.dewittiowa.org/events/details/lojo-russo-3047
END:VEVENT

END:VCALENDAR
