BEGIN:VCALENDAR
VERSION:2.0
PRODID:-//ChamberMaster//Event Calendar 2.0//EN
METHOD:PUBLISH
X-PUBLISHED-TTL:P3D
REFRESH-INTERVAL:P3D
CALSCALE:GREGORIAN
BEGIN:VEVENT
DTSTART:20160422T170000Z
DTEND:20160422T180000Z
X-MICROSOFT-CDO-ALLDAYEVENT:FALSE
SUMMARY:Long Term Care Lunch and Learn
DESCRIPTION:Come to a free one hour presentation on long term care options for you and your family. Developing a long term care strategy can help your preserve your independence\, keep you in your home longer\, protect your income and assets\, and reassure your family about the future. Join us to learn more. No products will be sold at this event. Lunch will be provided by the West Clinton County Chapter of Thrivent Financial.
X-ALT-DESC;FMTTYPE=text/html:Come to a free one hour presentation on long term care options for you and your family. Developing a long term care strategy can help your preserve your independence\, keep you in your home longer\, protect your income and assets\, and reassure your family about the future. Join us to learn more. No products will be sold at this event. Lunch will be provided by the West Clinton County Chapter of Thrivent Financial.
LOCATION:Thrivent Financial 908 6th Ave. DeWitt\, IA
UID:e.1774.1270
SEQUENCE:3
DTSTAMP:20260420T165312Z
URL:https://business.dewittiowa.org/events/details/long-term-care-lunch-and-learn-04-22-2016-1270
END:VEVENT

END:VCALENDAR
