BEGIN:VCALENDAR
VERSION:2.0
PRODID:-//ChamberMaster//Event Calendar 2.0//EN
METHOD:PUBLISH
X-PUBLISHED-TTL:P3D
REFRESH-INTERVAL:P3D
CALSCALE:GREGORIAN
BEGIN:VEVENT
DTSTART:20170708T140000Z
DTEND:20170708T200000Z
X-MICROSOFT-CDO-ALLDAYEVENT:FALSE
SUMMARY:Low Moor Lions Car Show
DESCRIPTION:This the 19th annual Low Moor Lions Car Show
X-ALT-DESC;FMTTYPE=text/html:This the 19th annual Low Moor Lions Car Show
LOCATION:1/2 mile West of the 4 way stop signs in Low Moor
UID:e.1774.3169
SEQUENCE:3
DTSTAMP:20260419T164839Z
URL:https://business.dewittiowa.org/events/details/low-moor-lions-car-show-3169
END:VEVENT

END:VCALENDAR
