BEGIN:VCALENDAR
VERSION:2.0
PRODID:-//ChamberMaster//Event Calendar 2.0//EN
METHOD:PUBLISH
X-PUBLISHED-TTL:P3D
REFRESH-INTERVAL:P3D
CALSCALE:GREGORIAN
BEGIN:VEVENT
DTSTART:20141122T160000Z
DTEND:20141122T180000Z
X-MICROSOFT-CDO-ALLDAYEVENT:FALSE
SUMMARY:"Lunch & a Good Book with an Iowa Gal"
DESCRIPTION:Join us the Saturday before Thanksgiving for a Special Luncheon Event with Award-winning Journalist\, Author & Poet\, Nan Lundeen as she returns to her Midwestern roots from South Carolina.  This timely event is focused on "Poetry of Gratitude:  Lunch & a Good Book with an Iowa Gal".\n\n\n\nNan's presentation will be immediately followed by audience questions\, book signing & lunch in the lower level Garden Cafe\n\n\n\nFor Luncheon Reservations & to reserve your copy of Black Dirt Days\, call 563-659-8897 by Tuesday\, Nov. 18.\n\n\n\nFor more information go to www.crossroadsofdewitt.com!
X-ALT-DESC;FMTTYPE=text/html:Join us the Saturday before Thanksgiving for a Special Luncheon Event with Award-winning Journalist\, Author &amp\; Poet\, Nan Lundeen as she returns to her Midwestern roots from South Carolina.&nbsp\; This timely event is focused on &quot\;Poetry of Gratitude:&nbsp\; Lunch &amp\; a Good Book with an Iowa Gal&quot\;.<br />\n<br />\nNan&#39\;s presentation will be immediately followed by audience questions\, book signing &amp\; lunch in the lower level Garden Cafe<br />\n<br />\nFor Luncheon Reservations &amp\; to reserve your copy of <em>Black Dirt Days\, </em>call 563-659-8897 by Tuesday\, Nov. 18.<br />\n<br />\nFor more information go to <a href="http://www.crossroadsofdewitt.com">www.crossroadsofdewitt.com</a>!
LOCATION:THE CROSSROADS Inspired Living 602 10th Street DeWitt\, IA 52742
UID:e.1774.235
SEQUENCE:3
DTSTAMP:20260421T190852Z
URL:https://business.dewittiowa.org/events/details/lunch-a-good-book-with-an-iowa-gal-11-22-2014-235
END:VEVENT

END:VCALENDAR
