BEGIN:VCALENDAR
VERSION:2.0
PRODID:-//ChamberMaster//Event Calendar 2.0//EN
METHOD:PUBLISH
X-PUBLISHED-TTL:P3D
REFRESH-INTERVAL:P3D
CALSCALE:GREGORIAN
BEGIN:VEVENT
DTSTART:20170531T170000Z
DTEND:20170531T183000Z
X-MICROSOFT-CDO-ALLDAYEVENT:FALSE
SUMMARY:Lunch and Learn-Fiber Optic Broadband
DESCRIPTION:Grand Mound Cooperative Telephone (GMCT)\, a member-owned and community based broadband provider\, serves portions of DeWitt with a fiber optic network and provides internet service\, telephone\, and digital TV. GMCT wants to have a conversation with the DeWitt business community about their broadband needs\, their current service options\, and how Grand Mound Cooperative Telephone might be able to provide better and more reliable broadband to the community. During this Lunch and Learn\, representatives of Grand Mound Cooperative Telephone will outline where fiber optic services are available today and discuss possible plans to grow the network in the future. But mostly\, we'd like to hear from YOU. What do you need\, where do you need it\, are current providers doing a good job for local businesses\, and how can Grand Mound Cooperative Telephone help? A light lunch and beverages will be provided. Please RSVP online at http://bit.ly/GrandMoundLunch
X-ALT-DESC;FMTTYPE=text/html:Grand Mound Cooperative Telephone (GMCT)\, a member-owned and community based broadband provider\, serves portions of DeWitt with a fiber optic network and provides internet service\, telephone\, and digital TV. GMCT wants to have a conversation with the DeWitt business community about their broadband needs\, their current service options\, and how Grand Mound Cooperative Telephone might be able to provide better and more reliable broadband to the community. During this Lunch and Learn\, representatives of Grand Mound Cooperative Telephone will outline where fiber optic services are available today and discuss possible plans to grow the network in the future. But mostly\, we&rsquo\;d like to hear from YOU. What do you need\, where do you need it\, are current providers doing a good job for local businesses\, and how can Grand Mound Cooperative Telephone help? A light lunch and beverages will be provided. Please RSVP online at http://bit.ly/GrandMoundLunch
LOCATION:Clinton County Satellite Office 226 11th Street DeWitt
UID:e.1774.3007
SEQUENCE:3
DTSTAMP:20260419T183736Z
URL:https://business.dewittiowa.org/events/details/lunch-and-learn-fiber-optic-broadband-3007
END:VEVENT

END:VCALENDAR
