BEGIN:VCALENDAR
VERSION:2.0
PRODID:-//ChamberMaster//Event Calendar 2.0//EN
METHOD:PUBLISH
X-PUBLISHED-TTL:P3D
REFRESH-INTERVAL:P3D
CALSCALE:GREGORIAN
BEGIN:VEVENT
DTSTART:20150622T163000Z
DTEND:20150622T180000Z
X-MICROSOFT-CDO-ALLDAYEVENT:FALSE
SUMMARY:Lunch at the Library
DESCRIPTION:Enjoy lunch with friends while listening to our clavinova. Beverages provided. Please bring your own lunch. Sponsored by Friends of the Library.
X-ALT-DESC;FMTTYPE=text/html:Enjoy lunch with friends while listening to our clavinova. Beverages provided. Please bring your own lunch. Sponsored by Friends of the Library.
LOCATION:Frances Banta Waggoner Public Library
UID:e.1774.492
SEQUENCE:3
DTSTAMP:20260421T075429Z
URL:https://business.dewittiowa.org/events/details/lunch-at-the-library-06-22-2015-492
END:VEVENT

END:VCALENDAR
