BEGIN:VCALENDAR
VERSION:2.0
PRODID:-//ChamberMaster//Event Calendar 2.0//EN
METHOD:PUBLISH
X-PUBLISHED-TTL:P3D
REFRESH-INTERVAL:P3D
CALSCALE:GREGORIAN
BEGIN:VEVENT
DTSTART:20150824T163000Z
DTEND:20150824T180000Z
X-MICROSOFT-CDO-ALLDAYEVENT:FALSE
SUMMARY:Lunch at the Library
DESCRIPTION:Enjoy the sounds of the clavinova (digital piano) played by Heidi Draley McFall on Monday\, August 24 from 11:30-1:00. Lunch will be provided by Friends of Frances.
X-ALT-DESC;FMTTYPE=text/html:Enjoy the sounds of the clavinova (digital piano) played by Heidi Draley McFall on Monday\, August 24 from 11:30-1:00. Lunch will be provided by Friends of Frances.
LOCATION:Frances Banta Waggoner Public Library
UID:e.1774.1015
SEQUENCE:3
DTSTAMP:20260421T043117Z
URL:https://business.dewittiowa.org/events/details/lunch-at-the-library-08-24-2015-1015
END:VEVENT

END:VCALENDAR
