BEGIN:VCALENDAR
VERSION:2.0
PRODID:-//ChamberMaster//Event Calendar 2.0//EN
METHOD:PUBLISH
X-PUBLISHED-TTL:P3D
REFRESH-INTERVAL:P3D
CALSCALE:GREGORIAN
BEGIN:VEVENT
DTSTART:20150928T163000Z
DTEND:20150928T180000Z
X-MICROSOFT-CDO-ALLDAYEVENT:FALSE
SUMMARY:Lunch at the Library
DESCRIPTION:Please join us for lunch while listening to the lovely sounds of our clavinova (digital piano) played by Dianne Prichard. Lunch will be provided by Friends of Francis.
X-ALT-DESC;FMTTYPE=text/html:Please join us for lunch while listening to the lovely sounds of our clavinova (digital piano) played by Dianne Prichard. Lunch will be provided by Friends of Francis.
LOCATION:Francis Banta Waggoner Public Library
UID:e.1774.1033
SEQUENCE:3
DTSTAMP:20260421T025318Z
URL:https://business.dewittiowa.org/events/details/lunch-at-the-library-09-28-2015-1033
END:VEVENT

END:VCALENDAR
