BEGIN:VCALENDAR
VERSION:2.0
PRODID:-//ChamberMaster//Event Calendar 2.0//EN
METHOD:PUBLISH
X-PUBLISHED-TTL:P3D
REFRESH-INTERVAL:P3D
CALSCALE:GREGORIAN
BEGIN:VEVENT
DTSTART:20150404T160000Z
DTEND:20150404T170000Z
X-MICROSOFT-CDO-ALLDAYEVENT:FALSE
SUMMARY:Maggie's House 2nd Annual Easter Egg Hunt
DESCRIPTION:Children 10 and under can bring their baskets and collect stuffed eggs filled with great prizes.
X-ALT-DESC;FMTTYPE=text/html:Children 10 and under can bring their baskets and collect stuffed eggs filled with great prizes.
LOCATION:107 W. 2nd Street\, DeWitt\, Iowa 52742
UID:e.1774.338
SEQUENCE:3
DTSTAMP:20260421T110213Z
URL:https://business.dewittiowa.org/events/details/maggie-s-house-2nd-annual-easter-egg-hunt-04-04-2015-338
END:VEVENT

END:VCALENDAR
