BEGIN:VCALENDAR
VERSION:2.0
PRODID:-//ChamberMaster//Event Calendar 2.0//EN
METHOD:PUBLISH
X-PUBLISHED-TTL:P3D
REFRESH-INTERVAL:P3D
CALSCALE:GREGORIAN
BEGIN:VEVENT
DTSTART:20170613T150000Z
DTEND:20170613T170000Z
X-MICROSOFT-CDO-ALLDAYEVENT:FALSE
SUMMARY:Make-it/Take-it
DESCRIPTION:Come to the Kids' Corner at the library to do a craft and have a snack!
X-ALT-DESC;FMTTYPE=text/html:Come to the Kids&#39\; Corner at the library to do a craft and have a snack!
LOCATION:Frances Banta Waggoner Community Library 505 10th St. DeWitt\, IA
UID:e.1774.3121
SEQUENCE:3
DTSTAMP:20260419T165034Z
URL:https://business.dewittiowa.org/events/details/make-it-take-it-06-13-2017-3121
END:VEVENT

END:VCALENDAR
