BEGIN:VCALENDAR
VERSION:2.0
PRODID:-//ChamberMaster//Event Calendar 2.0//EN
METHOD:PUBLISH
X-PUBLISHED-TTL:P3D
REFRESH-INTERVAL:P3D
CALSCALE:GREGORIAN
BEGIN:VEVENT
DTSTART:20170627T150000Z
DTEND:20170627T170000Z
X-MICROSOFT-CDO-ALLDAYEVENT:FALSE
SUMMARY:Make-it/Take-it
DESCRIPTION:Come and make a craft and have a snack!
X-ALT-DESC;FMTTYPE=text/html:Come and make a craft and have a snack!
LOCATION:Frances Banta Waggoner Community Library In the Kids' Corner 505 10th St. DeWitt\, IA 52742
UID:e.1774.3135
SEQUENCE:3
DTSTAMP:20260419T165107Z
URL:https://business.dewittiowa.org/events/details/make-it-take-it-06-27-2017-3135
END:VEVENT

END:VCALENDAR
