BEGIN:VCALENDAR
VERSION:2.0
PRODID:-//ChamberMaster//Event Calendar 2.0//EN
METHOD:PUBLISH
X-PUBLISHED-TTL:P3D
REFRESH-INTERVAL:P3D
CALSCALE:GREGORIAN
BEGIN:VEVENT
DTSTART:20170711T150000Z
DTEND:20170711T170000Z
X-MICROSOFT-CDO-ALLDAYEVENT:FALSE
SUMMARY:Make-it/Take-it
DESCRIPTION:Kids - - Come to make something and then take it home (or maybe eat it along the way)
X-ALT-DESC;FMTTYPE=text/html:Kids - - Come to make something and then take it home (or maybe eat it along the way)
LOCATION:The Kids' Corner at the DeWitt Library
UID:e.1774.3174
SEQUENCE:3
DTSTAMP:20260419T152303Z
URL:https://business.dewittiowa.org/events/details/make-it-take-it-07-11-2017-3174
END:VEVENT

END:VCALENDAR
