BEGIN:VCALENDAR
VERSION:2.0
PRODID:-//ChamberMaster//Event Calendar 2.0//EN
METHOD:PUBLISH
X-PUBLISHED-TTL:P3D
REFRESH-INTERVAL:P3D
CALSCALE:GREGORIAN
BEGIN:VEVENT
DTSTART:20170606T150000Z
DTEND:20170606T170000Z
X-MICROSOFT-CDO-ALLDAYEVENT:FALSE
SUMMARY:Make-it/Take-it
DESCRIPTION:Kids are invited to come to make something!
X-ALT-DESC;FMTTYPE=text/html:Kids are invited to come to make something!
LOCATION:Kids Corner at the library 505 10th St. DeWitt\, IA
UID:e.1774.3100
SEQUENCE:3
DTSTAMP:20260419T163934Z
URL:https://business.dewittiowa.org/events/details/make-it-take-it-3100
END:VEVENT

END:VCALENDAR
