BEGIN:VCALENDAR
VERSION:2.0
PRODID:-//ChamberMaster//Event Calendar 2.0//EN
METHOD:PUBLISH
X-PUBLISHED-TTL:P3D
REFRESH-INTERVAL:P3D
CALSCALE:GREGORIAN
BEGIN:VEVENT
DTSTART:20160423T150000Z
DTEND:20160423T220000Z
X-MICROSOFT-CDO-ALLDAYEVENT:FALSE
SUMMARY:Make it Yours Upcycle Center Donation Drive
DESCRIPTION:Make It Yours Upcycle Center in Welton invites everyone to "think" before they throw things away.  You will be surprised by the items we accept as donations.  Anyone can donate - households\, businesses\, schools\, churches\, clubs and industries.  Click Here for an extensive list of acceptable items.  Click Here to learn more about Creative Reuse.  \n\n\n\nWe especially invite everyone who is participating in the DeWitt City-Wide garage sale on April 23\, to donate their unwanted items at our donation drive. Make It Yours Upcycle Center will hold a donation drive on Saturday\, April  23 in the parking lot at 1115 11th Street in DeWitt (Hansen Monuments Rock Shop Parking lot). We will be there between 10 a.m. and 4 p.m. with a trailer. All items must be clean\, odor and mold free and either in a box\, tote or bag. No loose items accepted unless they are oversized like furniture\, etc.  We ask that you try to keep to items on our list\, however what we can't use will be donated to the Referral Center.  We are a non-profit and will issue receipts for tax deductions at time of donation.  Please know your fair market value on your donations at drop-off time\, we can not designate an amount for you.\n\n \n\nThis drive is for anyone who has things to donate on April  23.  We also accept items on other days by appointment at the center at 411 Main St.\, Welton by calling (563) 659-1534 or (563) 340-3935.  For questions email MakeItYoursUpcycle@gmail.com.  Visit our website at www.makeityoursupcyclecenter.org and find us on social media like Facebook and Pinterest. \n\n \n\nWe are also seeking volunteers that day to help with the donation drive.  This is a great opportunity for youth groups\, clubs\, etc to do some community service.  Please contact us if you are interested in helping.\n\n \n\nWith your help we are "saving the landfills one junk drawer at a time!"
X-ALT-DESC;FMTTYPE=text/html:<span style="color:rgb(34\, 34\, 34)\; font-family:arial\,sans-serif">Make It Yours Upcycle Center in Welton invites everyone to &quot\;think&quot\; before they throw things away.&nbsp\; You will be surprised by the items we accept as donations.&nbsp\; <strong>Anyone </strong>can donate - households\, businesses\, schools\, churches\, clubs and industries. </span><span style="font-family:arial\,sans-serif"><a href="http://cloud.chambermaster.com/userfiles/UserFiles/chambers/1774/File/MakeItYoursDonationsRules.pdf"><span style="color:#0000CD">&nbsp\;</span></a></span><span style="font-family:arial\,sans-serif"><a href="https://chambermaster.blob.core.windows.net/userfiles/UserFiles/chambers/1774/File/MakeityoursDonations.pdf"><span style="color:#0000CD">Click Here</span></a></span><span style="color:rgb(34\, 34\, 34)\; font-family:arial\,sans-serif"> for an&nbsp\;extensive list of acceptable items. &nbsp\;</span><span style="font-family:arial\,sans-serif"><a href="https://chambermaster.blob.core.windows.net/userfiles/UserFiles/chambers/1774/File/whatiscreativereus.pdf"><span style="color:#0000CD">Click Here</span></a></span><span style="color:rgb(34\, 34\, 34)\; font-family:arial\,sans-serif"> to learn more about Creative Reuse. &nbsp\;</span>\n\n<div><br />\nWe especially invite everyone who is participating in the DeWitt City-Wide garage sale&nbsp\;on April 23\, to donate their unwanted items at our donation drive. <strong>Make It Yours Upcycle Center will hold a donation drive on Saturday\,&nbsp\;April &nbsp\;23 in the parking lot at 1115 11th Street in DeWitt (Hansen Monuments Rock Shop Parking lot). We will be there between 10 a.m. and 4 p.m. with a trailer</strong>. <u>All items must be clean\, odor and mold free and either in a box\, tote or bag. No loose items accepted unless they are oversized like furniture\, etc.</u>&nbsp\; We ask that you try to keep to items on our list\, however what we can&#39\;t use will be donated to the Referral Center.&nbsp\; We are a non-profit and will issue receipts for tax deductions&nbsp\;at time of donation.&nbsp\; Please know your fair market value on your donations at drop-off time\, we can not designate an amount for you.</div>\n\n<div>&nbsp\;</div>\n\n<div>This drive is for <strong>anyone </strong>who has things to donate on&nbsp\;April &nbsp\;23.&nbsp\; We also accept items on other days by appointment at the center at 411 Main St.\, Welton by calling&nbsp\;<a href="tel:%28563%29%20659-1534" style="color: rgb(17\, 85\, 204)\;" target="_blank">(563) 659-1534</a>&nbsp\;or&nbsp\;<a href="tel:%28563%29%20340-3935" style="color: rgb(17\, 85\, 204)\;" target="_blank">(563) 340-3935</a>.&nbsp\; <span style="color:rgb(34\, 34\, 34)\; font-family:arial\,sans-serif">For questions email&nbsp\;</span><a href="mailto:MakeItYoursUpcycle@gmail.com" style="color: rgb(17\, 85\, 204)\; font-family: arial\, sans-serif\; line-height: normal\;" target="_blank"><span style="color:rgb(0\, 0\, 205)">MakeItYoursUpcycle@gmail.com</span></a>.&nbsp\; Visit our website at <a href="http://makeityoursupcyclecenter.org">www.makeityoursupcyclecenter.org</a>&nbsp\;and find us on social media like Facebook and Pinterest.&nbsp\;</div>\n\n<div>&nbsp\;</div>\n\n<div>We are also seeking volunteers that day to help with the donation drive.&nbsp\; This is a great opportunity for youth groups\, clubs\, etc to do some community service.&nbsp\; Please contact us if you are interested in helping.</div>\n\n<div>&nbsp\;</div>\n\n<div>With your help we are <em><strong>&quot\;saving the landfills one junk drawer at a time!&quot\;</strong></em></div>\n
LOCATION:1115 11th Street.\, DeWitt\, Iowa PARKING LOT
UID:e.1774.1307
SEQUENCE:3
DTSTAMP:20260420T152713Z
URL:https://business.dewittiowa.org/events/details/make-it-yours-upcycle-center-donation-drive-04-23-2016-1307
END:VEVENT

END:VCALENDAR
