BEGIN:VCALENDAR
VERSION:2.0
PRODID:-//ChamberMaster//Event Calendar 2.0//EN
METHOD:PUBLISH
X-PUBLISHED-TTL:P3D
REFRESH-INTERVAL:P3D
CALSCALE:GREGORIAN
BEGIN:VEVENT
DTSTART:20151003T160000Z
DTEND:20151003T220000Z
X-MICROSOFT-CDO-ALLDAYEVENT:FALSE
SUMMARY:Make it Yours Upcycle Center Donation Drive
DESCRIPTION:Make It Yours Upcycle Center in Welton invites everyone to "think" before they throw things away.  You will be surprised by the items we accept as donations and what a little creative reuse our customers can do with them.  Anyone can donate - households\, businesses\, schools\, churches\, clubs and industries.  Click Here for an extensive list of acceptable items.  Click Here to learn more about Creative Reuse.  \n\n\n\nWe especially invite everyone who is participating in the DeWitt City-Wide garage sale on October 3\, to donate their unwanted items at our donation drive. Make It Yours Upcycle Center will hold a donation drive on Saturday\, October 3 in the parking lot at 1115 11th Street in DeWitt (Hansen Monuments Rock Shop Parking lot). We will be there between 11a.m. and 5p.m. with a trailer. All items must be clean\, odor and mold free and either in a box\, tote or bag. No loose items accepted unless they are oversized\, etc.  We ask that you try to keep to items on our list\, however what we can't use will be donated elsewhere. \n\n \n\nThis drive is for anyone who has things to donate on October 3.  We accept items on other days by appointment at the center at 411 Main St.\, Welton by calling (563) 659-1534 or (563) 340-3935.  For questions email MakeItYoursUpcycle@gmail.com.\n\n \nThank you\, hope to see you there.
X-ALT-DESC;FMTTYPE=text/html:<span style="color:rgb(34\, 34\, 34)\; font-family:arial\,sans-serif">Make It Yours Upcycle Center in Welton invites everyone to &quot\;think&quot\; before they throw things away.&nbsp\; You will be surprised by the items we accept as donations and what a little creative reuse our customers can do with them.&nbsp\; <strong>Anyone </strong>can donate - households\, businesses\, schools\, churches\, clubs and industries. </span><span style="font-family:arial\,sans-serif"><a href="http://cloud.chambermaster.com/userfiles/UserFiles/chambers/1774/File/MakeItYoursDonationsRules.pdf"><span style="color:#0000CD">&nbsp\;</span></a></span><span style="font-family:arial\,sans-serif"><a href="http://cloud.chambermaster.com/userfiles/UserFiles/chambers/1774/File/MakeItYoursDonationsRules.pdf"><span style="color:#0000CD">Click Here</span></a></span><span style="color:rgb(34\, 34\, 34)\; font-family:arial\,sans-serif"> for an&nbsp\;extensive list of acceptable items. &nbsp\;</span><span style="font-family:arial\,sans-serif"><a href="http://cloud.chambermaster.com/userfiles/UserFiles/chambers/1774/File/WhatisCreativeReuse.pdf"><span style="color:#0000CD">Click Here</span></a></span><span style="color:rgb(34\, 34\, 34)\; font-family:arial\,sans-serif"> to learn more about Creative Reuse. &nbsp\;</span>\n\n<div><br />\nWe especially invite everyone who is participating in the DeWitt City-Wide garage sale&nbsp\;on October 3\, to donate their unwanted items at our donation drive. <strong>Make It Yours Upcycle Center will hold a donation drive on Saturday\, October 3 in the parking lot at 1115 11th Street in DeWitt (Hansen Monuments Rock Shop Parking lot). We will be there between 11a.m. and 5p.m. with a trailer</strong>. All items must be clean\, odor and mold free and either in a box\, tote or bag. No loose items accepted unless they are oversized\, etc.&nbsp\; We ask that you try to keep to items on our list\, however what we can&#39\;t use will be donated elsewhere.&nbsp\;</div>\n\n<div>&nbsp\;</div>\n\n<div>This drive is for <strong>anyone </strong>who has things to donate on October 3.&nbsp\; We accept items on other days by appointment at the center at 411 Main St.\, Welton by calling&nbsp\;<a href="tel:%28563%29%20659-1534" style="color: rgb(17\, 85\, 204)\;" target="_blank">(563) 659-1534</a>&nbsp\;or&nbsp\;<a href="tel:%28563%29%20340-3935" style="color: rgb(17\, 85\, 204)\;" target="_blank">(563) 340-3935</a>.&nbsp\; <span style="color:rgb(34\, 34\, 34)\; font-family:arial\,sans-serif">For questions email&nbsp\;</span><a href="mailto:MakeItYoursUpcycle@gmail.com" style="color: rgb(17\, 85\, 204)\; font-family: arial\, sans-serif\; line-height: normal\;" target="_blank"><span style="color:rgb(0\, 0\, 205)">MakeItYoursUpcycle@gmail.com</span></a>.\n\n<div>&nbsp\;</div>\nThank you\, hope to see you there.</div>\n
LOCATION:1115 11th Street in DeWitt
UID:e.1774.1056
SEQUENCE:3
DTSTAMP:20260421T012724Z
URL:https://business.dewittiowa.org/events/details/make-it-yours-upcycle-center-donation-drive-10-03-2015-1056
END:VEVENT

END:VCALENDAR
