BEGIN:VCALENDAR
VERSION:2.0
PRODID:-//ChamberMaster//Event Calendar 2.0//EN
METHOD:PUBLISH
X-PUBLISHED-TTL:P3D
REFRESH-INTERVAL:P3D
CALSCALE:GREGORIAN
BEGIN:VEVENT
DTSTART:20151105T150000Z
DTEND:20151108T210000Z
X-MICROSOFT-CDO-ALLDAYEVENT:FALSE
SUMMARY:Make it Yours Upcycle Center Grand Opening!
DESCRIPTION:Join Make it Yours Upcycle Center for Our Grand Opening November 5-8!  Learn what we do\, why we do it and how you can help!  Shop at our retail store!  Visit our new classroom (in progress) and do a make-and-take and enjoy a treat.\n\n\n\nThere will be specials throughout the store on things like scrapbook paper\, rubber stamps\, glue and glue sticks\, gift bags and sewing notions\, just to name a few.  Tax deductible donations are also welcome to help support our center and our programs.\n\n\n\nParking is on the street and to the north of our big white building.  Please contact us or visit our website for more information www.makeityoursupcyclecenter.org.
X-ALT-DESC;FMTTYPE=text/html:<strong>Join Make it Yours Upcycle Center for Our Grand Opening&nbsp\;November 5-8! &nbsp\;Learn what we do\, why we do it and how you can help! &nbsp\;Shop at our retail store! &nbsp\;Visit our new classroom (in progress) and do a make-and-take and enjoy a treat.<br />\n<br />\nThere will be specials throughout the store on things like scrapbook paper\, rubber stamps\, glue and glue sticks\, gift bags and sewing notions\, just to name a few. &nbsp\;T<span style="line-height: 18.9091px\;">ax deductible donations are also welcome to help support our center and our programs.</span><br />\n<br />\nParking is on the street and to the north of our big white building. &nbsp\;Please contact us or visit our website for more information&nbsp\;<a href="http://www.makeityoursupcyclecenter.org">www.makeityoursupcyclecenter.org</a>.</strong>
LOCATION:411 Main St Welton\, Iowa
UID:e.1774.1100
SEQUENCE:3
DTSTAMP:20260420T233154Z
URL:https://business.dewittiowa.org/events/details/make-it-yours-upcycle-center-grand-opening-11-05-2015-1100
END:VEVENT

END:VCALENDAR
