BEGIN:VCALENDAR
VERSION:2.0
PRODID:-//ChamberMaster//Event Calendar 2.0//EN
METHOD:PUBLISH
X-PUBLISHED-TTL:P3D
REFRESH-INTERVAL:P3D
CALSCALE:GREGORIAN
BEGIN:VEVENT
DTSTART;VALUE=DATE:20161027
DTEND;VALUE=DATE:20161031
TRANSP:TRANSPARENT
X-MICROSOFT-CDO-ALLDAYEVENT:TRUE
SUMMARY:Make it Yours Upcycle Center One Year Anniversary Open House
DESCRIPTION:Make it Yours Upcycle Center in Welton\, is celebrating our 1st Anniversary of doing business in our community.   We want to celebrate with you because you are the reason we are here!  With your support through item donations and fundraisers\, we have diverted over 800 pounds of items from the landfills!  Our creative customers have taken the most unwanted and seemingly unusable items and made things like class projects\, party decorations\, crafts and more.  Old things have been given new life. You have helped us begin to save the landfills one junk drawer at a time!\n\n\n\nJoin us at our open house Thursday\, Oct. 27 - Sunday\, Oct. 30\, with special hours of 10 a.m. to 4 p.m. each day.\n\n\n\nRegister to win $25 in DeWitt Chamber Bucks. (must be 18 or older to register. No purchase necessary.  One entry per person.  Drawing at 4 pm Sunday\, October 30.  Need not be present to win.)\n\n\n\nPop a balloon when you make a purchase and see what prize you win.  Prizes include but not limited to "surprise" gifts\, store discounts and much more.\n\n\n\nWe are also happy to announce our new on-site classroom available for upcycling educational programs\, Pinterest parties\, mommy/tot classes\, ladies night outs\, scouts\, 4H and more!  Classes will be announced soon!  We will have make and takes in the classroom during the open house on Saturday and Sunday.\n\n\n\nBring a friend and come see what treasures await you!
X-ALT-DESC;FMTTYPE=text/html:<span style="font-family:arial\;"><span style="color: rgb(51\, 51\, 51)\; font-size: 13px\;">Make it Yours&nbsp\;Upcycle&nbsp\;Center in&nbsp\;Welton\, is celebrating our 1st Anniversary of doing business in our community. &nbsp\; We want to celebrate with you because you are the reason we are here!&nbsp\; With your support through item donations and fundraisers\, we have diverted over 800 pounds of items from the landfills!&nbsp\; Our creative customers have taken the most unwanted and seemingly unusable items and made things like class projects\, party decorations\, crafts and more.&nbsp\; Old things have been given new life.&nbsp\;You have helped us begin to save the landfills one junk drawer at a time!</span><br />\n<br />\n<span style="color: rgb(51\, 51\, 51)\; font-size: 14px\;"><strong>Join us at our open house Thursday\, Oct. 27 - Sunday\, Oct. 30\, with special hours of 10 a.m. to 4 p.m. each day.</strong><br />\n<br />\n<strong><span style="color: inherit\;">Register to win $25 in DeWitt Chamber Bucks.</span>&nbsp\;</strong><span style="color: inherit\; font-size: 11px\;"><strong><em>(must be 18 or older to register. No purchase necessary.&nbsp\; One entry per person.&nbsp\; Drawing at 4 pm Sunday\, October 30.&nbsp\; Need not be present to win.)</em></strong><br />\n<br />\n<strong><span style="color: inherit\; font-size: 14px\;">Pop a balloon when you make a purchase and see what prize you win.&nbsp\;</span></strong></span></span><span style="color: rgb(51\, 51\, 51)\; font-size: 11px\;"><span style="color: inherit\; font-size: 14px\;">&nbsp\;Prizes include but not limited to &quot\;surprise&quot\; gifts\, store discounts and much more.</span></span><br />\n<br />\n<span style="color: rgb(51\, 51\, 51)\; font-size: 13px\;">We are also&nbsp\;happy to announce&nbsp\;our&nbsp\;new on-site&nbsp\;classroom available&nbsp\;for&nbsp\;upcycling&nbsp\;educational programs\,&nbsp\;Pinterest&nbsp\;parties\, mommy/tot classes\, ladies night outs\, scouts\, 4H and more!&nbsp\; Classes will be announced soon!&nbsp\; We will have make and takes in the classroom during the open house on Saturday and Sunday.</span><br />\n<br />\n<span style="color: rgb(51\, 51\, 51)\; font-size: 13px\;">Bring a friend and come see what treasures await you!</span></span>
LOCATION:411 Main Street Welton\, Iowa
UID:e.1774.1679
SEQUENCE:3
DTSTAMP:20260420T073948Z
URL:https://business.dewittiowa.org/events/details/make-it-yours-upcycle-center-one-year-anniversary-open-house-1679
END:VEVENT

END:VCALENDAR
