BEGIN:VCALENDAR
VERSION:2.0
PRODID:-//ChamberMaster//Event Calendar 2.0//EN
METHOD:PUBLISH
X-PUBLISHED-TTL:P3D
REFRESH-INTERVAL:P3D
CALSCALE:GREGORIAN
BEGIN:VEVENT
DTSTART:20170608T140000Z
DTEND:20170608T170000Z
X-MICROSOFT-CDO-ALLDAYEVENT:FALSE
SUMMARY:Maker Fun Factory Vacation Bible School
DESCRIPTION:Vacation Bible School for kids four years old thru sixth grade.
X-ALT-DESC;FMTTYPE=text/html:Vacation Bible School for kids four years old thru sixth grade.
LOCATION:DeWitt Evangelical Free Church 1921 Elmwood Road DeWitt\, IA
UID:e.1774.3110
SEQUENCE:3
DTSTAMP:20260419T170053Z
URL:https://business.dewittiowa.org/events/details/maker-fun-factory-vacation-bible-school-06-08-2017-3110
END:VEVENT

END:VCALENDAR
