BEGIN:VCALENDAR
VERSION:2.0
PRODID:-//ChamberMaster//Event Calendar 2.0//EN
METHOD:PUBLISH
X-PUBLISHED-TTL:P3D
REFRESH-INTERVAL:P3D
CALSCALE:GREGORIAN
BEGIN:VEVENT
DTSTART:20170609T140000Z
DTEND:20170609T170000Z
X-MICROSOFT-CDO-ALLDAYEVENT:FALSE
SUMMARY:Maker Fun Factory Vacation Bible School
DESCRIPTION:Vacation Bible School for kids four years old thru sixth grade.
X-ALT-DESC;FMTTYPE=text/html:Vacation Bible School for kids four years old thru sixth grade.
LOCATION:DeWitt Evangelical Free Church 1921 Elmwood Road DeWitt\, IA
UID:e.1774.3111
SEQUENCE:3
DTSTAMP:20260419T183132Z
URL:https://business.dewittiowa.org/events/details/maker-fun-factory-vacation-bible-school-06-09-2017-3111
END:VEVENT

END:VCALENDAR
