BEGIN:VCALENDAR
VERSION:2.0
PRODID:-//ChamberMaster//Event Calendar 2.0//EN
METHOD:PUBLISH
X-PUBLISHED-TTL:P3D
REFRESH-INTERVAL:P3D
CALSCALE:GREGORIAN
BEGIN:VEVENT
DTSTART:20150322T170000Z
DTEND:20150322T210000Z
X-MICROSOFT-CDO-ALLDAYEVENT:FALSE
SUMMARY:March Match Up\, Family Fun Event
DESCRIPTION:Around the World Basketball Tournament\n\n\n	Teams made up of one K-6 child AND one adult.  \n	Brackets based on the grade of the child.  \n	Points will be scored during three rounds of play.  \n	Awards given based on TOTAL points scored.  \n	Participation medals will also be awarded. \n	Registration begins at Noon\; Tournament begins at 12:30 pm.  \n	Pre-Registration cost is $10 per adult/child team\, $20 for a family.   \n	Day of Registration cost is $15 per adult/child team\, $25 for a family.  \n\nStay busy between the tournament brackets with multiple fun Activity Stations!\n\n\n	Team participation earns Fun Tickets\, which you enter into drawings for door prizes.  \n	Grand Prize drawing is a new Nook HD.  \n\nAdditional Information\n\n\n	The Concession Stand will be open for snacks and drinks.
X-ALT-DESC;FMTTYPE=text/html:<span style="font-size:12px"><span style="font-size:14px"><strong><span style="color:#D8670A">Around the World Basketball Tournament</span></strong></span></span>\n\n<ul>\n	<li><span style="font-size:12px"><strong>Teams made up of <u>one K-6 child AND one adult</u></strong>.&nbsp\; </span></li>\n	<li><span style="font-size:12px">Brackets based on the grade of the child.&nbsp\; </span></li>\n	<li><span style="font-size:12px">Points will be scored during three rounds of play.&nbsp\; </span></li>\n	<li><span style="font-size:12px">Awards given based on TOTAL points scored.&nbsp\; </span></li>\n	<li><span style="font-size:12px">Participation medals will also be awarded. </span></li>\n	<li><span style="font-size:12px"><strong><u>Registration begins at Noon</u></strong>\; Tournament begins at 12:30 pm.&nbsp\; </span></li>\n	<li><span style="font-size:12px">Pre-Registration cost is $10 per adult/child team\, $20 for a family.&nbsp\;&nbsp\; </span></li>\n	<li><span style="font-size:12px">Day of Registration cost is $15 per adult/child team\, $25 for a family.&nbsp\; </span></li>\n</ul>\n<span style="font-size:12px"><strong><span style="color:#E36C0A">Stay busy between the tournament brackets with multiple fun Activity Stations!</span></strong></span>\n\n<ul>\n	<li><span style="font-size:12px">Team participation earns Fun Tickets\, which you enter into drawings for door prizes.&nbsp\; </span></li>\n	<li><span style="font-size:12px"><strong>Grand Prize drawing is a new Nook HD.&nbsp\; </strong></span></li>\n</ul>\n<span style="font-size:12px"><strong><span style="color:#E36C0A">Additional Information</span></strong></span>\n\n<ul>\n	<li><span style="font-size:12px">The Concession Stand will be open for snacks and drinks.</span></li>\n</ul>\n
LOCATION:Central High School gymnasium
UID:e.1774.329
SEQUENCE:3
DTSTAMP:20260421T124538Z
URL:https://business.dewittiowa.org/events/details/march-match-up-family-fun-event-03-22-2015-329
END:VEVENT

END:VCALENDAR
