BEGIN:VCALENDAR
VERSION:2.0
PRODID:-//ChamberMaster//Event Calendar 2.0//EN
METHOD:PUBLISH
X-PUBLISHED-TTL:P3D
REFRESH-INTERVAL:P3D
CALSCALE:GREGORIAN
BEGIN:VEVENT
DTSTART:20161016T160000Z
DTEND:20161016T200000Z
X-MICROSOFT-CDO-ALLDAYEVENT:FALSE
SUMMARY:Marketers of DeWitt 2nd Annual Pumpkin Festival
DESCRIPTION:Marketers of DeWitt\, 2nd Annual Pumpkin Festival\n\nSunday\, October 16th from 11am to 3pm.\n\nGreat Pumpkin Derby Race\, Pumpkin Painting Make-n-Take\, Children & Pet Costume Parade. Food & Craft Vendors\, Kid's Games & More.
X-ALT-DESC;FMTTYPE=text/html:Marketers of DeWitt\, 2nd Annual Pumpkin Festival<br />\nSunday\, October 16th from 11am to 3pm.<br />\nGreat Pumpkin Derby Race\, Pumpkin Painting Make-n-Take\, Children &amp\; Pet Costume Parade. Food &amp\; Craft Vendors\, Kid&#39\;s Games &amp\; More.
LOCATION:Streets will be blocked off on 6th Avenue & 8th Street out side of Emma Rae's Antiques & Uniques.
UID:e.1774.1609
SEQUENCE:3
DTSTAMP:20260420T061728Z
URL:https://business.dewittiowa.org/events/details/marketers-of-dewitt-2nd-annual-pumpkin-festival-1609
END:VEVENT

END:VCALENDAR
