BEGIN:VCALENDAR
VERSION:2.0
PRODID:-//ChamberMaster//Event Calendar 2.0//EN
METHOD:PUBLISH
X-PUBLISHED-TTL:P3D
REFRESH-INTERVAL:P3D
CALSCALE:GREGORIAN
BEGIN:VEVENT
DTSTART:20150212T000000Z
DTEND:20150212T023000Z
X-MICROSOFT-CDO-ALLDAYEVENT:FALSE
SUMMARY:Marriage Strategies with a Twist
DESCRIPTION:An evening of inspiration\, laughter\, and guilt-free marriage advice from best-selling author Jay Payleitner.\n\n\n\nFree Appetizers\, Popcorn and Drinks
X-ALT-DESC;FMTTYPE=text/html:<p>An evening of inspiration\, laughter\, and guilt-free marriage advice from best-selling author Jay Payleitner.<br />\n<br />\nFree Appetizers\, Popcorn and Drinks</p>\n
LOCATION:DeWitt Opera House
UID:e.1774.287
SEQUENCE:3
DTSTAMP:20260421T142606Z
URL:https://business.dewittiowa.org/events/details/marriage-strategies-with-a-twist-02-11-2015-287
END:VEVENT

END:VCALENDAR
