BEGIN:VCALENDAR
VERSION:2.0
PRODID:-//ChamberMaster//Event Calendar 2.0//EN
METHOD:PUBLISH
X-PUBLISHED-TTL:P3D
REFRESH-INTERVAL:P3D
CALSCALE:GREGORIAN
BEGIN:VEVENT
DTSTART:20150715T140000Z
DTEND:20150715T200000Z
X-MICROSOFT-CDO-ALLDAYEVENT:FALSE
SUMMARY:Master Gardener's Day at the Fair
DESCRIPTION:Master Gardener's Day at the Fair Outdoor Container Contest\, Vegetable Contest Workshops 10-2pm: Structures in the Vegetable Garden\, Delightful Flower Design\, Monarchs/Butterflies/Butterfly Garden\, & Changes to the Garden
X-ALT-DESC;FMTTYPE=text/html:Master Gardener&#39\;s Day at the Fair Outdoor Container Contest\, Vegetable Contest Workshops 10-2pm: Structures in the Vegetable Garden\, Delightful Flower Design\, Monarchs/Butterflies/Butterfly Garden\, &amp\; Changes to the Garden
LOCATION:Clinton County Fairgrounds
UID:e.1774.919
SEQUENCE:3
DTSTAMP:20260421T075813Z
URL:https://business.dewittiowa.org/events/details/master-gardener-s-day-at-the-fair-07-15-2015-919
END:VEVENT

END:VCALENDAR
