BEGIN:VCALENDAR
VERSION:2.0
PRODID:-//ChamberMaster//Event Calendar 2.0//EN
METHOD:PUBLISH
X-PUBLISHED-TTL:P3D
REFRESH-INTERVAL:P3D
CALSCALE:GREGORIAN
BEGIN:VEVENT
DTSTART;VALUE=DATE:20170712
DTEND;VALUE=DATE:20170713
TRANSP:TRANSPARENT
X-MICROSOFT-CDO-ALLDAYEVENT:TRUE
SUMMARY:Master Gardener's Day at the Fair
DESCRIPTION:Clinton County Master Gardener's are hosting an Outdoor Container Contest and a Vegetable Contest. Workshops include 9:30 am: Hosta the Friendship Plant\; 10:30 am: Succulents\, Plants You Can't Kill\; 12:00 pm: Raised Beds and Containers for Vegetables\; 1:00 pm: Native Plants in the Landscape.
X-ALT-DESC;FMTTYPE=text/html:Clinton County Master Gardener&#39\;s are hosting an Outdoor Container Contest and a Vegetable Contest. Workshops include 9:30 am: Hosta the Friendship Plant\; 10:30 am: Succulents\, Plants You Can&#39\;t Kill\; 12:00 pm: Raised Beds and Containers for Vegetables\; 1:00 pm: Native Plants in the Landscape.
LOCATION:Clinton County Fair Grounds\, DeWitt\, IA
UID:e.1774.3170
SEQUENCE:3
DTSTAMP:20260419T164840Z
URL:https://business.dewittiowa.org/events/details/master-gardener-s-day-at-the-fair-3170
END:VEVENT

END:VCALENDAR
