BEGIN:VCALENDAR
VERSION:2.0
PRODID:-//ChamberMaster//Event Calendar 2.0//EN
METHOD:PUBLISH
X-PUBLISHED-TTL:P3D
REFRESH-INTERVAL:P3D
CALSCALE:GREGORIAN
BEGIN:VEVENT
DTSTART:20150516T140000Z
DTEND:20150517T170000Z
X-MICROSOFT-CDO-ALLDAYEVENT:FALSE
SUMMARY:Master Gardeners Annual Plant Sale
DESCRIPTION:The Clinton County Master Gardeners will hold their annual plant sale Saturday and Sunday\, May 16 & 17\, at the Fairgrounds in DeWitt. A variety of perennials\, annuals\, house plants\, vegetables and herbs will be available for sale.\n\nThere will also be a Garden "Treasure" sale: both gently used and new decorative pots and planters\, garden art\, garden tools\, and other unique garden items.
X-ALT-DESC;FMTTYPE=text/html:The Clinton County Master Gardeners will hold their annual plant sale Saturday and Sunday\, May 16 &amp\; 17\, at the Fairgrounds in DeWitt. A variety of perennials\, annuals\, house plants\, vegetables and herbs will be available for sale.<br />\nThere will also be a Garden &quot\;Treasure&quot\; sale: both gently used and new decorative pots and planters\, garden art\, garden tools\, and other unique garden items.<br />\n&nbsp\;
LOCATION:Clinton County Fairgrounds 328 East 8th Street DeWitt\, IA 52742
UID:e.1774.384
SEQUENCE:3
DTSTAMP:20260421T094648Z
URL:https://business.dewittiowa.org/events/details/master-gardeners-annual-plant-sale-05-16-2015-384
END:VEVENT

END:VCALENDAR
