BEGIN:VCALENDAR
VERSION:2.0
PRODID:-//ChamberMaster//Event Calendar 2.0//EN
METHOD:PUBLISH
X-PUBLISHED-TTL:P3D
REFRESH-INTERVAL:P3D
CALSCALE:GREGORIAN
BEGIN:VEVENT
DTSTART:20170716T190000Z
DTEND:20170716T210000Z
X-MICROSOFT-CDO-ALLDAYEVENT:FALSE
SUMMARY:Matt Bednarsky
DESCRIPTION:Matt Bednarsky from Nashville on the patio from 2-4pm.\n\nWood fired pizza cooking from 11-5pm. ALL beverages to be purchased from TYCOGA.
X-ALT-DESC;FMTTYPE=text/html:Matt Bednarsky from Nashville on the patio from 2-4pm.<br />\nWood fired pizza cooking from 11-5pm. ALL beverages to be purchased from TYCOGA.<br />\n&nbsp\;
LOCATION:TYCOGA Vineyard & Winery 2585 195th street DeWitt\, IA 52742
UID:e.1774.3157
SEQUENCE:3
DTSTAMP:20260419T164406Z
URL:https://business.dewittiowa.org/events/details/matt-bednarsky-3157
END:VEVENT

END:VCALENDAR
