BEGIN:VCALENDAR
VERSION:2.0
PRODID:-//ChamberMaster//Event Calendar 2.0//EN
METHOD:PUBLISH
X-PUBLISHED-TTL:P3D
REFRESH-INTERVAL:P3D
CALSCALE:GREGORIAN
BEGIN:VEVENT
DTSTART:20150827T143000Z
DTEND:20150829T203000Z
X-MICROSOFT-CDO-ALLDAYEVENT:FALSE
SUMMARY:Meant To Be Flowers Fall Open House
DESCRIPTION:We are having our Fall Open House. Stop by\, visit with friends\, sample our goodies and enter to win a prize! If it is "Meant to Be" you will find it here!
X-ALT-DESC;FMTTYPE=text/html:We are having our Fall Open House. Stop by\, visit with friends\, sample our goodies and enter to win a prize! If it is &quot\;Meant to Be&quot\; you will find it here!
LOCATION:810 6th Ave DeWitt\, IA
UID:e.1774.1024
SEQUENCE:3
DTSTAMP:20260421T044232Z
URL:https://business.dewittiowa.org/events/details/meant-to-be-flowers-fall-open-house-08-27-2015-1024
END:VEVENT

END:VCALENDAR
