BEGIN:VCALENDAR
VERSION:2.0
PRODID:-//ChamberMaster//Event Calendar 2.0//EN
METHOD:PUBLISH
X-PUBLISHED-TTL:P3D
REFRESH-INTERVAL:P3D
CALSCALE:GREGORIAN
BEGIN:VEVENT
DTSTART:20160310T153000Z
DTEND:20160312T213000Z
X-MICROSOFT-CDO-ALLDAYEVENT:FALSE
SUMMARY:Meant To Be With Flowers Spring Open House
DESCRIPTION:Our Spring Open House will be all three days and we are open til 7PM on Thursday and Friday. Stop in visit with friends\, sample our goodies\, enter the drawing and receive 10% off your entire purchase.
X-ALT-DESC;FMTTYPE=text/html:Our Spring Open House will be all three days and we are open til 7PM on Thursday and Friday. Stop in visit with friends\, sample our goodies\, enter the drawing and receive 10% off your entire purchase.
LOCATION:810 6th Ave DeWitt\, IA
UID:e.1774.1256
SEQUENCE:3
DTSTAMP:20260420T171230Z
URL:https://business.dewittiowa.org/events/details/meant-to-be-with-flowers-spring-open-house-03-10-2016-1256
END:VEVENT

END:VCALENDAR
