BEGIN:VCALENDAR
VERSION:2.0
PRODID:-//ChamberMaster//Event Calendar 2.0//EN
METHOD:PUBLISH
X-PUBLISHED-TTL:P3D
REFRESH-INTERVAL:P3D
CALSCALE:GREGORIAN
BEGIN:VEVENT
DTSTART:20151118T220000Z
DTEND:20151118T234500Z
X-MICROSOFT-CDO-ALLDAYEVENT:FALSE
SUMMARY:Medicaid Member Education and Enrollment Event
DESCRIPTION:Meeting Purpose: These meetings will provide the public with an opportunity to receive information about the transition\, ask questions directly to DHS staff\, and receive in-person enrollment assistance. Target Audience: Medicaid Members Transitioning to the IA Health Link Program\, Family Members\, Member Representatives.
X-ALT-DESC;FMTTYPE=text/html:Meeting Purpose: These meetings will provide the public with an opportunity to receive information about the transition\, ask questions directly to DHS staff\, and receive in-person enrollment assistance. Target Audience: Medicaid Members Transitioning to the IA Health Link Program\, Family Members\, Member Representatives.
LOCATION:DAC Incorporated 108 Industrial Street DeWitt\, IA 52472
UID:e.1774.1124
SEQUENCE:3
DTSTAMP:20260420T233322Z
URL:https://business.dewittiowa.org/events/details/medicaid-member-education-and-enrollment-event-11-18-2015-1124
END:VEVENT

END:VCALENDAR
