BEGIN:VCALENDAR
VERSION:2.0
PRODID:-//ChamberMaster//Event Calendar 2.0//EN
METHOD:PUBLISH
X-PUBLISHED-TTL:P3D
REFRESH-INTERVAL:P3D
CALSCALE:GREGORIAN
BEGIN:VEVENT
DTSTART:20140620T150000Z
DTEND:20140620T170000Z
X-MICROSOFT-CDO-ALLDAYEVENT:FALSE
SUMMARY:Meet IPTV's Dan Wardell!
DESCRIPTION:Dan Wardell\, host of the children's shows on PBS\, will be stopping in DeWitt as part of his Reading Road Trip across Iowa. Come meet Dan!
X-ALT-DESC;FMTTYPE=text/html:<span style="font-size:14px\;"><span style="font-family:arial\;"><span style="color: rgb(102\, 102\, 102)\; font-weight: bold\; line-height: normal\;">Dan Wardell\, host of the children&#39\;s shows on PBS\, will be stopping in DeWitt as part of his Reading Road Trip across Iowa. Come meet Dan!</span></span></span>
LOCATION:DeWitt Community Center 512 10th St. DeWitt\, IA
UID:e.1774.88
SEQUENCE:3
DTSTAMP:20260422T025513Z
URL:https://business.dewittiowa.org/events/details/meet-iptv-s-dan-wardell-06-20-2014-88
END:VEVENT

END:VCALENDAR
