BEGIN:VCALENDAR
VERSION:2.0
PRODID:-//ChamberMaster//Event Calendar 2.0//EN
METHOD:PUBLISH
X-PUBLISHED-TTL:P3D
REFRESH-INTERVAL:P3D
CALSCALE:GREGORIAN
BEGIN:VEVENT
DTSTART:20140619T130000Z
DTEND:20140619T220000Z
X-MICROSOFT-CDO-ALLDAYEVENT:FALSE
SUMMARY:Mental Health First Aid
DESCRIPTION:You know CPR - but what do you do in a Mental Health Crisis? Mental Health You know CPR but do you know what to do in a Mental Health Crisis? Mental Health First Aid training will be held on Thursday\, June 19 from 8 am - 5 pm. The cost is $60 including 3-year certificate. Nursing\, Social Work\, Behavioral Science CEUs available. For more information or to register email Nancy Papin at Nancy-Papin@uiowa.edu or call 563-583-5545
X-ALT-DESC;FMTTYPE=text/html:You know CPR - but what do you do in a Mental Health Crisis? Mental Health You know CPR but do you know what to do in a Mental Health Crisis? Mental Health First Aid training will be held on Thursday\, June 19 from 8 am - 5 pm. The cost is $60 including 3-year certificate. Nursing\, Social Work\, Behavioral Science CEUs available. For more information or to register email Nancy Papin at Nancy-Papin@uiowa.edu or call 563-583-5545
LOCATION:DeWitt Community Center at 900 14th Street.
UID:e.1774.84
SEQUENCE:3
DTSTAMP:20260422T025604Z
URL:https://business.dewittiowa.org/events/details/mental-health-first-aid-06-19-2014-84
END:VEVENT

END:VCALENDAR
