BEGIN:VCALENDAR
VERSION:2.0
PRODID:-//ChamberMaster//Event Calendar 2.0//EN
METHOD:PUBLISH
X-PUBLISHED-TTL:P3D
REFRESH-INTERVAL:P3D
CALSCALE:GREGORIAN
BEGIN:VEVENT
DTSTART:20151114T140000Z
DTEND:20151114T233000Z
X-MICROSOFT-CDO-ALLDAYEVENT:FALSE
SUMMARY:Mental Health First Aid: Skills for Clergy and other Caregivers
DESCRIPTION:Presented by the Center for Child Health Improvement & Innovation\, University of Iowa\, this seminar is geared specifically for clergy\, to give them the key skills to help someone who is developing a mental health problem or is experiencing a mental health crisis. Evidence shows that Mental Health First Aid training helps individuals feel more comfortable managing a crisis situation and build mental health literacy by helping participants identify\, understand\, and respond to signs of mental illness.\nThe seminar is sponsored by DeWitt Academy for Theological Education.
X-ALT-DESC;FMTTYPE=text/html:<h2><span style="font-family:tahoma">Presented by the Center for Child Health Improvement &amp\; Innovation\, University of Iowa\, this seminar is geared specifically for clergy\, to give them the key skills to help someone who is developing a mental health problem or is experiencing a mental health crisis. Evidence shows that Mental Health First Aid training helps individuals feel more comfortable managing a crisis situation and build mental health literacy by helping participants identify\, understand\, and respond to signs of mental illness.</span></h2>\n<span style="font-size:16px"><span style="font-family:tahoma">The seminar is sponsored by <a href="http://uccdewitt.org/dewittacademy.html">DeWitt Academy for Theological Education</a>. &nbsp\; </span></span>
LOCATION:DeWitt's United Church of Christ 520 East 11th Street DeWitt\, IA 52742
UID:e.1774.1073
SEQUENCE:3
DTSTAMP:20260420T233702Z
URL:https://business.dewittiowa.org/events/details/mental-health-first-aid-skills-for-clergy-and-other-caregivers-11-14-2015-1073
END:VEVENT

END:VCALENDAR
